BEGIN:VCALENDAR
VERSION:2.0
PRODID:-//St Dominic&#039;s Priory - ECPv6.15.20//NONSGML v1.0//EN
CALSCALE:GREGORIAN
METHOD:PUBLISH
X-WR-CALNAME:St Dominic&#039;s Priory
X-ORIGINAL-URL:https://stdominicspriory.co.uk
X-WR-CALDESC:Events for St Dominic&#039;s Priory
REFRESH-INTERVAL;VALUE=DURATION:PT1H
X-Robots-Tag:noindex
X-PUBLISHED-TTL:PT1H
BEGIN:VTIMEZONE
TZID:Europe/London
BEGIN:DAYLIGHT
TZOFFSETFROM:+0000
TZOFFSETTO:+0100
TZNAME:BST
DTSTART:20250330T010000
END:DAYLIGHT
BEGIN:STANDARD
TZOFFSETFROM:+0100
TZOFFSETTO:+0000
TZNAME:GMT
DTSTART:20251026T010000
END:STANDARD
BEGIN:DAYLIGHT
TZOFFSETFROM:+0000
TZOFFSETTO:+0100
TZNAME:BST
DTSTART:20260329T010000
END:DAYLIGHT
BEGIN:STANDARD
TZOFFSETFROM:+0100
TZOFFSETTO:+0000
TZNAME:GMT
DTSTART:20261025T010000
END:STANDARD
BEGIN:DAYLIGHT
TZOFFSETFROM:+0000
TZOFFSETTO:+0100
TZNAME:BST
DTSTART:20270328T010000
END:DAYLIGHT
BEGIN:STANDARD
TZOFFSETFROM:+0100
TZOFFSETTO:+0000
TZNAME:GMT
DTSTART:20271031T010000
END:STANDARD
END:VTIMEZONE
BEGIN:VEVENT
DTSTART;TZID=Europe/London:20260420T110000
DTEND;TZID=Europe/London:20260420T120000
DTSTAMP:20260418T043758
CREATED:20260115T164418Z
LAST-MODIFIED:20260417T123325Z
UID:805107-1776682800-1776686400@stdominicspriory.co.uk
SUMMARY:Leavers' Mass
DESCRIPTION:Our Year 11 students and their parents\, will attend a special service in church followed by lunch to mark the end of their time as a student of St Dominic’s Priory. This will also be a whole school mass for our school.
URL:https://stdominicspriory.co.uk/event/leavers-mass/
LOCATION:Immaculate Conception and Saint Dominic Catholic Church
CATEGORIES:Prep,Senior,Whole School Mass
ATTACH;FMTTYPE=image/png:https://stdominicspriory.co.uk/wp-content/uploads/2023/08/mass2.jpg.png
END:VEVENT
BEGIN:VEVENT
DTSTART;VALUE=DATE:20260421
DTEND;VALUE=DATE:20260422
DTSTAMP:20260418T043758
CREATED:20260115T171236Z
LAST-MODIFIED:20260115T171236Z
UID:805109-1776729600-1776815999@stdominicspriory.co.uk
SUMMARY:School Photos
DESCRIPTION:Annual school photos – individual and siblings
URL:https://stdominicspriory.co.uk/event/school-photos/
CATEGORIES:Prep,Senior
ATTACH;FMTTYPE=image/jpeg:https://stdominicspriory.co.uk/wp-content/uploads/2026/01/camera.jpg
END:VEVENT
BEGIN:VEVENT
DTSTART;TZID=Europe/London:20260424T190000
DTEND;TZID=Europe/London:20260424T210000
DTSTAMP:20260418T043758
CREATED:20251002T150650Z
LAST-MODIFIED:20251002T150737Z
UID:804506-1777057200-1777064400@stdominicspriory.co.uk
SUMMARY:Schools' Gotta Dance - Stafford Gatehouse
DESCRIPTION:Our students participate in ‘Schools’ Gotta Dance’ showcasing incredible young dance talent.
URL:https://stdominicspriory.co.uk/event/schools-gotta-dance-stafford-gatehouse/
LOCATION:Gatehouse Theatre\, Stafford
CATEGORIES:Special Event
ATTACH;FMTTYPE=image/jpeg:https://stdominicspriory.co.uk/wp-content/uploads/2025/10/gotta-dance.jpg
END:VEVENT
BEGIN:VEVENT
DTSTART;VALUE=DATE:20260430
DTEND;VALUE=DATE:20260501
DTSTAMP:20260418T043758
CREATED:20260223T165006Z
LAST-MODIFIED:20260223T165006Z
UID:805255-1777507200-1777593599@stdominicspriory.co.uk
SUMMARY:OPEN DOOR - Whole School - All ages
DESCRIPTION:We’re opening our doors and would love you to pop in! Our new Open Door event is all about flexibility – come along during a normal school day\, have a wander around\, meet our students and teachers\, and see what school life is really like. Whether you’ve got 10 minutes or time for a longer look\, just drop in when it suits you. All we ask is that you register your interest in advance by clicking the link\, so we know you’re coming on the day.
URL:https://stdominicspriory.co.uk/event/open-door-whole-school-all-ages-2/
CATEGORIES:Open Events,Prep,Senior
ATTACH;FMTTYPE=image/jpeg:https://stdominicspriory.co.uk/wp-content/uploads/2022/02/open-door-2026-750.jpg
END:VEVENT
BEGIN:VEVENT
DTSTART;VALUE=DATE:20260504
DTEND;VALUE=DATE:20260505
DTSTAMP:20260418T043758
CREATED:20250716T123643Z
LAST-MODIFIED:20250716T123643Z
UID:804197-1777852800-1777939199@stdominicspriory.co.uk
SUMMARY:May Bank Holiday
DESCRIPTION:
URL:https://stdominicspriory.co.uk/event/may-bank-holiday/
CATEGORIES:Prep,School Term Dates,Senior
ATTACH;FMTTYPE=image/jpeg:https://stdominicspriory.co.uk/wp-content/uploads/2024/08/May-Day.jpg
END:VEVENT
BEGIN:VEVENT
DTSTART;VALUE=DATE:20260505
DTEND;VALUE=DATE:20260509
DTSTAMP:20260418T043758
CREATED:20250922T134440Z
LAST-MODIFIED:20251001T160510Z
UID:804415-1777939200-1778284799@stdominicspriory.co.uk
SUMMARY:Prep - Y8 Assessment Week
DESCRIPTION:Primary 1 to Year 8 assessment tests.
URL:https://stdominicspriory.co.uk/event/prep-assessment-week/
CATEGORIES:Assessment,Prep
ATTACH;FMTTYPE=image/jpeg:https://stdominicspriory.co.uk/wp-content/uploads/2024/08/exam.jpg
END:VEVENT
BEGIN:VEVENT
DTSTART;VALUE=DATE:20260508
DTEND;VALUE=DATE:20260511
DTSTAMP:20260418T043758
CREATED:20250922T151847Z
LAST-MODIFIED:20250922T151847Z
UID:804446-1778198400-1778457599@stdominicspriory.co.uk
SUMMARY:Stone Food & Drink Festival 2026
DESCRIPTION:Come and say hello – we’ll have a stand at the Stone Food & Drink Festival.  Details and timings to follow.
URL:https://stdominicspriory.co.uk/event/stone-food-drink-festival-2026/
CATEGORIES:Special Event
ATTACH;FMTTYPE=image/jpeg:https://stdominicspriory.co.uk/wp-content/uploads/2025/09/Stone-FD-Festival-2026.jpg
END:VEVENT
BEGIN:VEVENT
DTSTART;VALUE=DATE:20260511
DTEND;VALUE=DATE:20260514
DTSTAMP:20260418T043758
CREATED:20251001T161007Z
LAST-MODIFIED:20251001T161007Z
UID:804487-1778457600-1778716799@stdominicspriory.co.uk
SUMMARY:P5 & P6 Residential Boreatton Park
DESCRIPTION:P5 and P6 students will enjoy 3 days of fun packed\, hands-on workshops and team activities with residential leaders.
URL:https://stdominicspriory.co.uk/event/p5-p6-residential-boreatton-park/
CATEGORIES:Prep,School Trip
ATTACH;FMTTYPE=image/jpeg:https://stdominicspriory.co.uk/wp-content/uploads/2023/08/boreatton-park.jpg
END:VEVENT
BEGIN:VEVENT
DTSTART;VALUE=DATE:20260525
DTEND;VALUE=DATE:20260530
DTSTAMP:20260418T043758
CREATED:20250716T123525Z
LAST-MODIFIED:20250716T123525Z
UID:804195-1779667200-1780099199@stdominicspriory.co.uk
SUMMARY:May Half Term
DESCRIPTION:School closed for May half-term
URL:https://stdominicspriory.co.uk/event/may-half-term/
CATEGORIES:Prep,School Term Dates,Senior
ATTACH;FMTTYPE=image/jpeg:https://stdominicspriory.co.uk/wp-content/uploads/2024/08/half-term.jpg
END:VEVENT
BEGIN:VEVENT
DTSTART;VALUE=DATE:20260527
DTEND;VALUE=DATE:20260529
DTSTAMP:20260418T043758
CREATED:20250922T135350Z
LAST-MODIFIED:20250922T135350Z
UID:804417-1779840000-1780012799@stdominicspriory.co.uk
SUMMARY:Staffordshire County Show 2026
DESCRIPTION:Come and say hello – we’ll be at the Staffordshire County Show telling everyone about our brilliant school!
URL:https://stdominicspriory.co.uk/event/staffordshire-county-show-2026/
CATEGORIES:Special Event
ATTACH;FMTTYPE=image/jpeg:https://stdominicspriory.co.uk/wp-content/uploads/2025/09/staffordshire-county-show-2026.jpg
END:VEVENT
BEGIN:VEVENT
DTSTART;TZID=Europe/London:20260609T103000
DTEND;TZID=Europe/London:20260609T123000
DTSTAMP:20260418T043758
CREATED:20250922T135752Z
LAST-MODIFIED:20250922T135752Z
UID:804420-1781001000-1781008200@stdominicspriory.co.uk
SUMMARY:EYFS & KS1 Sports Day
DESCRIPTION:Times to be confirmed
URL:https://stdominicspriory.co.uk/event/eyfs-ks1-sports-day/
LOCATION:Multi Use Games Area – MUGA
CATEGORIES:Prep,Sport Fixtures
ATTACH;FMTTYPE=image/jpeg:https://stdominicspriory.co.uk/wp-content/uploads/2024/08/sports-day.jpg
END:VEVENT
BEGIN:VEVENT
DTSTART;TZID=Europe/London:20260616T084000
DTEND;TZID=Europe/London:20260617T094000
DTSTAMP:20260418T043758
CREATED:20250922T140449Z
LAST-MODIFIED:20251002T152229Z
UID:804423-1781599200-1781689200@stdominicspriory.co.uk
SUMMARY:Prep Father's Day Celebrations
DESCRIPTION:Details and timings to be confirmed.
URL:https://stdominicspriory.co.uk/event/prep-fathers-day-celebrations/
CATEGORIES:Prep,Special Event
ATTACH;FMTTYPE=image/jpeg:https://stdominicspriory.co.uk/wp-content/uploads/2025/09/Fathers-Day.jpg
END:VEVENT
BEGIN:VEVENT
DTSTART;TZID=Europe/London:20260618T133000
DTEND;TZID=Europe/London:20260618T153000
DTSTAMP:20260418T043758
CREATED:20251001T162606Z
LAST-MODIFIED:20251001T162954Z
UID:804489-1781789400-1781796600@stdominicspriory.co.uk
SUMMARY:Prep Performing Arts Showcase
DESCRIPTION:Our prep students will showcase a selection of music\, dance and drama performances. Timings to be confirmed.
URL:https://stdominicspriory.co.uk/event/prep-performing-arts-showcase/
CATEGORIES:Concert,Prep
ATTACH;FMTTYPE=image/jpeg:https://stdominicspriory.co.uk/wp-content/uploads/2025/10/stage.jpg
END:VEVENT
BEGIN:VEVENT
DTSTART;VALUE=DATE:20260622
DTEND;VALUE=DATE:20260627
DTSTAMP:20260418T043758
CREATED:20250922T142643Z
LAST-MODIFIED:20250922T143039Z
UID:804437-1782086400-1782518399@stdominicspriory.co.uk
SUMMARY:Year 10 Work Experience Week
DESCRIPTION:Details and timings to be confirmed
URL:https://stdominicspriory.co.uk/event/year-10-work-experience-week-2/
CATEGORIES:Senior
ATTACH;FMTTYPE=image/jpeg:https://stdominicspriory.co.uk/wp-content/uploads/2025/09/work-experience.jpg
END:VEVENT
BEGIN:VEVENT
DTSTART;TZID=Europe/London:20260630T180000
DTEND;TZID=Europe/London:20260630T193000
DTSTAMP:20260418T043758
CREATED:20251001T163319Z
LAST-MODIFIED:20251001T163319Z
UID:804494-1782842400-1782847800@stdominicspriory.co.uk
SUMMARY:Senior Performing Arts Showcase
DESCRIPTION:Our senior students will be showcasing a mix of music\, dance and drama performances.
URL:https://stdominicspriory.co.uk/event/senior-performing-arts-showcase/
CATEGORIES:Concert,Senior
ATTACH;FMTTYPE=image/jpeg:https://stdominicspriory.co.uk/wp-content/uploads/2025/10/stage.jpg
END:VEVENT
BEGIN:VEVENT
DTSTART;VALUE=DATE:20260701
DTEND;VALUE=DATE:20260702
DTSTAMP:20260418T043758
CREATED:20250922T141918Z
LAST-MODIFIED:20250922T141918Z
UID:804433-1782864000-1782950399@stdominicspriory.co.uk
SUMMARY:Whole School Trip
DESCRIPTION:Details and timings to be confirmed
URL:https://stdominicspriory.co.uk/event/whole-school-trip-2/
CATEGORIES:Prep,School Trip,Senior
ATTACH;FMTTYPE=image/jpeg:https://stdominicspriory.co.uk/wp-content/uploads/2024/08/school-trip.jpg
END:VEVENT
BEGIN:VEVENT
DTSTART;TZID=Europe/London:20260702T090000
DTEND;TZID=Europe/London:20260702T130000
DTSTAMP:20260418T043758
CREATED:20250922T141632Z
LAST-MODIFIED:20260115T135410Z
UID:804431-1782982800-1782997200@stdominicspriory.co.uk
SUMMARY:KS2 and Seniors Sports Day
DESCRIPTION:Details and timings to be confirmed
URL:https://stdominicspriory.co.uk/event/ks2-and-seniors-sports-day/
CATEGORIES:Prep,Senior,Sport Fixtures
ATTACH;FMTTYPE=image/jpeg:https://stdominicspriory.co.uk/wp-content/uploads/2024/08/track-and-field-1867053_1280.jpg
END:VEVENT
BEGIN:VEVENT
DTSTART;TZID=Europe/London:20260707T160000
DTEND;TZID=Europe/London:20260707T200000
DTSTAMP:20260418T043758
CREATED:20250922T141058Z
LAST-MODIFIED:20250922T141058Z
UID:804426-1783440000-1783454400@stdominicspriory.co.uk
SUMMARY:Prizegiving Events
DESCRIPTION:Our prep and senior school prize giving events\, celebrating our students achievements.
URL:https://stdominicspriory.co.uk/event/prizegiving-events/
LOCATION:Sports Hall
CATEGORIES:Prep,Senior,Special Event
ATTACH;FMTTYPE=image/jpeg:https://stdominicspriory.co.uk/wp-content/uploads/2024/08/prize-giving.jpg
END:VEVENT
BEGIN:VEVENT
DTSTART;TZID=Europe/London:20260709T130000
DTEND;TZID=Europe/London:20260709T150000
DTSTAMP:20260418T043758
CREATED:20250922T142121Z
LAST-MODIFIED:20250922T142121Z
UID:804435-1783602000-1783609200@stdominicspriory.co.uk
SUMMARY:Form Markets - Summer Fair
DESCRIPTION:Details and timings to be confirmed.
URL:https://stdominicspriory.co.uk/event/form-markets-summer-fair-2/
CATEGORIES:Prep,Senior,Special Event
ATTACH;FMTTYPE=image/png:https://stdominicspriory.co.uk/wp-content/uploads/2024/08/Form-markets.png
END:VEVENT
BEGIN:VEVENT
DTSTART;TZID=Europe/London:20260710T123000
DTEND;TZID=Europe/London:20260710T123000
DTSTAMP:20260418T043758
CREATED:20250716T123755Z
LAST-MODIFIED:20260211T170810Z
UID:804199-1783686600-1783686600@stdominicspriory.co.uk
SUMMARY:Last day of term
DESCRIPTION:Final day of academic year.
URL:https://stdominicspriory.co.uk/event/last-day-of-term-2/
CATEGORIES:Prep,School Term Dates,Senior
ATTACH;FMTTYPE=image/jpeg:https://stdominicspriory.co.uk/wp-content/uploads/2025/07/last-day-of-school.jpg
END:VEVENT
END:VCALENDAR