BEGIN:VCALENDAR
VERSION:2.0
PRODID:-//St Dominic&#039;s Priory - ECPv6.15.20//NONSGML v1.0//EN
CALSCALE:GREGORIAN
METHOD:PUBLISH
X-WR-CALNAME:St Dominic&#039;s Priory
X-ORIGINAL-URL:https://stdominicspriory.co.uk
X-WR-CALDESC:Events for St Dominic&#039;s Priory
REFRESH-INTERVAL;VALUE=DURATION:PT1H
X-Robots-Tag:noindex
X-PUBLISHED-TTL:PT1H
BEGIN:VTIMEZONE
TZID:Europe/London
BEGIN:DAYLIGHT
TZOFFSETFROM:+0000
TZOFFSETTO:+0100
TZNAME:BST
DTSTART:20250330T010000
END:DAYLIGHT
BEGIN:STANDARD
TZOFFSETFROM:+0100
TZOFFSETTO:+0000
TZNAME:GMT
DTSTART:20251026T010000
END:STANDARD
BEGIN:DAYLIGHT
TZOFFSETFROM:+0000
TZOFFSETTO:+0100
TZNAME:BST
DTSTART:20260329T010000
END:DAYLIGHT
BEGIN:STANDARD
TZOFFSETFROM:+0100
TZOFFSETTO:+0000
TZNAME:GMT
DTSTART:20261025T010000
END:STANDARD
BEGIN:DAYLIGHT
TZOFFSETFROM:+0000
TZOFFSETTO:+0100
TZNAME:BST
DTSTART:20270328T010000
END:DAYLIGHT
BEGIN:STANDARD
TZOFFSETFROM:+0100
TZOFFSETTO:+0000
TZNAME:GMT
DTSTART:20271031T010000
END:STANDARD
END:VTIMEZONE
BEGIN:VEVENT
DTSTART;TZID=Europe/London:20260420T110000
DTEND;TZID=Europe/London:20260420T120000
DTSTAMP:20260422T093415
CREATED:20260115T164418Z
LAST-MODIFIED:20260417T123325Z
UID:805107-1776682800-1776686400@stdominicspriory.co.uk
SUMMARY:Leavers' Mass
DESCRIPTION:Our Year 11 students and their parents\, will attend a special service in church followed by lunch to mark the end of their time as a student of St Dominic’s Priory. This will also be a whole school mass for our school.
URL:https://stdominicspriory.co.uk/event/leavers-mass/
LOCATION:Immaculate Conception and Saint Dominic Catholic Church
CATEGORIES:Prep,Senior,Whole School Mass
ATTACH;FMTTYPE=image/png:https://stdominicspriory.co.uk/wp-content/uploads/2023/08/mass2.jpg.png
END:VEVENT
END:VCALENDAR